BEGIN:VCALENDAR
VERSION:2.0
PRODID:-//Volg de rode schoentjes - ECPv6.15.17.1//NONSGML v1.0//EN
CALSCALE:GREGORIAN
METHOD:PUBLISH
X-ORIGINAL-URL:https://temp.volgderodeschoentjes.nu
X-WR-CALDESC:Evenementen voor Volg de rode schoentjes
REFRESH-INTERVAL;VALUE=DURATION:PT1H
X-Robots-Tag:noindex
X-PUBLISHED-TTL:PT1H
BEGIN:VTIMEZONE
TZID:Europe/Amsterdam
BEGIN:DAYLIGHT
TZOFFSETFROM:+0100
TZOFFSETTO:+0200
TZNAME:CEST
DTSTART:20240331T010000
END:DAYLIGHT
BEGIN:STANDARD
TZOFFSETFROM:+0200
TZOFFSETTO:+0100
TZNAME:CET
DTSTART:20241027T010000
END:STANDARD
BEGIN:DAYLIGHT
TZOFFSETFROM:+0100
TZOFFSETTO:+0200
TZNAME:CEST
DTSTART:20250330T010000
END:DAYLIGHT
BEGIN:STANDARD
TZOFFSETFROM:+0200
TZOFFSETTO:+0100
TZNAME:CET
DTSTART:20251026T010000
END:STANDARD
BEGIN:DAYLIGHT
TZOFFSETFROM:+0100
TZOFFSETTO:+0200
TZNAME:CEST
DTSTART:20260329T010000
END:DAYLIGHT
BEGIN:STANDARD
TZOFFSETFROM:+0200
TZOFFSETTO:+0100
TZNAME:CET
DTSTART:20261025T010000
END:STANDARD
BEGIN:DAYLIGHT
TZOFFSETFROM:+0100
TZOFFSETTO:+0200
TZNAME:CEST
DTSTART:20270328T010000
END:DAYLIGHT
BEGIN:STANDARD
TZOFFSETFROM:+0200
TZOFFSETTO:+0100
TZNAME:CET
DTSTART:20271031T010000
END:STANDARD
END:VTIMEZONE
BEGIN:VEVENT
DTSTART;TZID=Europe/Amsterdam:20260214T160000
DTEND;TZID=Europe/Amsterdam:20260221T100000
DTSTAMP:20260421T024825
CREATED:20221111T124800Z
LAST-MODIFIED:20251021T124531Z
UID:10000265-1771084800-1771668000@temp.volgderodeschoentjes.nu
SUMMARY:Winterwandelen in Italië
DESCRIPTION:Winterwandelen in Italië.\nWinterwandelen in Italië is heerlijk. Het landschap is zo verrassend mooi. De temperatuur is zeer aangenaam om op pad te gaan. Heldere blauwe luchten en overweldigende zonsondergangen. In een verrassend groene omgeving. Ontdek en beleef samen met mij\, Mariët Bloemendal van Volg de Rode Schoentjes de wandelpaden rondom het Lago di Bolsena. \nDe wandelvakanties zijn een melange van mooie verschillende mensen. Van jong tot oud met allemaal dezelfde interesse en wens een super wandelvakantie in Italië.\nGeniet je van prachtige nieuwe ontmoetingen\, indrukken en inzichten om nooit te vergeten?\nGa je graag met een groep gezellige en gelijkgestemde mensen samen op wandelvakantie in een ongedwongen sfeer? Wandel met ons mee\, want samen met elkaar beleef je jouw mooiste wandelvakantie ooit. \nLago di Bolsena ligt in noord Lazio\, op de grens van zuid Toscana en noordwest Umbrië. In een unieke omgeving bestemd voor iedereen die wil genieten van een pure ongedwongen sfeer en een prachtig natuurschoon. Met mooie vergezichten in een oud vulkanisch landschap waarin stadjes op tufstenen plateaus liggen en er bijzondere plekken zijn van duizenden jaren oud. Meer informatie over deze mooie week:
URL:https://temp.volgderodeschoentjes.nu/agenda/winterwandelen-in-italie/
LOCATION:Bolsena\, Bolsena\, Italië
CATEGORIES:agenda 2026,Wandelen Italie
ATTACH;FMTTYPE=image/jpeg:https://temp.volgderodeschoentjes.nu/wp-content/uploads/2020/01/Winterwandelen-Italie-4.jpg
ORGANIZER;CN="Volgderodeschoentjes":MAILTO:info@volgderodeschoentjes.nu
END:VEVENT
BEGIN:VEVENT
DTSTART;TZID=Europe/Amsterdam:20260107T160000
DTEND;TZID=Europe/Amsterdam:20260114T100000
DTSTAMP:20260421T024825
CREATED:20251021T124633Z
LAST-MODIFIED:20251021T124738Z
UID:10000307-1767801600-1768384800@temp.volgderodeschoentjes.nu
SUMMARY:Winterwandelen in Italië
DESCRIPTION:Winterwandelen in Italië.\nWinterwandelen in Italië is heerlijk. Het landschap is zo verrassend mooi. De temperatuur is zeer aangenaam om op pad te gaan. Heldere blauwe luchten en overweldigende zonsondergangen. In een verrassend groene omgeving. Ontdek en beleef samen met mij\, Mariët Bloemendal van Volg de Rode Schoentjes de wandelpaden rondom het Lago di Bolsena. \nDe wandelvakanties zijn een melange van mooie verschillende mensen. Van jong tot oud met allemaal dezelfde interesse en wens een super wandelvakantie in Italië.\nGeniet je van prachtige nieuwe ontmoetingen\, indrukken en inzichten om nooit te vergeten?\nGa je graag met een groep gezellige en gelijkgestemde mensen samen op wandelvakantie in een ongedwongen sfeer? Wandel met ons mee\, want samen met elkaar beleef je jouw mooiste wandelvakantie ooit. \nLago di Bolsena ligt in noord Lazio\, op de grens van zuid Toscana en noordwest Umbrië. In een unieke omgeving bestemd voor iedereen die wil genieten van een pure ongedwongen sfeer en een prachtig natuurschoon. Met mooie vergezichten in een oud vulkanisch landschap waarin stadjes op tufstenen plateaus liggen en er bijzondere plekken zijn van duizenden jaren oud. Meer informatie over deze mooie week:
URL:https://temp.volgderodeschoentjes.nu/agenda/winterwandelen-in-italie-3/
LOCATION:Bolsena\, Bolsena\, Italië
CATEGORIES:agenda 2026,Wandelen Italie
ATTACH;FMTTYPE=image/jpeg:https://temp.volgderodeschoentjes.nu/wp-content/uploads/2020/01/Winterwandelen-Italie-4.jpg
ORGANIZER;CN="Volgderodeschoentjes":MAILTO:info@volgderodeschoentjes.nu
END:VEVENT
BEGIN:VEVENT
DTSTART;TZID=Europe/Amsterdam:20251115T160000
DTEND;TZID=Europe/Amsterdam:20251122T100000
DTSTAMP:20260421T024825
CREATED:20241115T134422Z
LAST-MODIFIED:20241115T134541Z
UID:10000285-1763222400-1763805600@temp.volgderodeschoentjes.nu
SUMMARY:Winterwandelen in Italië
DESCRIPTION:Winterwandelen in Italië.\nWinterwandelen in Italië is heerlijk. Het landschap is zo verrassend mooi. De temperatuur is zeer aangenaam om op pad te gaan. Heldere blauwe luchten en overweldigende zonsondergangen. In een verrassend groene omgeving. Ontdek en beleef samen met mij\, Mariët Bloemendal van Volg de Rode Schoentjes de wandelpaden rondom het Lago di Bolsena. \nDe wandelvakanties zijn een melange van mooie verschillende mensen. Van jong tot oud met allemaal dezelfde interesse en wens een super wandelvakantie in Italië.\nGeniet je van prachtige nieuwe ontmoetingen\, indrukken en inzichten om nooit te vergeten?\nGa je graag met een groep gezellige en gelijkgestemde mensen samen op wandelvakantie in een ongedwongen sfeer? Wandel met ons mee\, want samen met elkaar beleef je jouw mooiste wandelvakantie ooit. \nLago di Bolsena ligt in noord Lazio\, op de grens van zuid Toscana en noordwest Umbrië. In een unieke omgeving bestemd voor iedereen die wil genieten van een pure ongedwongen sfeer en een prachtig natuurschoon. Met mooie vergezichten in een oud vulkanisch landschap waarin stadjes op tufstenen plateaus liggen en er bijzondere plekken zijn van duizenden jaren oud. Meer informatie over deze mooie week:
URL:https://temp.volgderodeschoentjes.nu/agenda/winterwandelen-in-italie-2/
LOCATION:Bolsena\, Bolsena\, Italië
CATEGORIES:agenda 2025,Wandelen Italie
ATTACH;FMTTYPE=image/jpeg:https://temp.volgderodeschoentjes.nu/wp-content/uploads/2020/01/Winterwandelen-Italie-4.jpg
ORGANIZER;CN="Volgderodeschoentjes":MAILTO:info@volgderodeschoentjes.nu
END:VEVENT
END:VCALENDAR