BEGIN:VCALENDAR
VERSION:2.0
PRODID:-//Volg de rode schoentjes - ECPv6.15.17.1//NONSGML v1.0//EN
CALSCALE:GREGORIAN
METHOD:PUBLISH
X-WR-CALNAME:Volg de rode schoentjes
X-ORIGINAL-URL:https://temp.volgderodeschoentjes.nu
X-WR-CALDESC:Evenementen voor Volg de rode schoentjes
REFRESH-INTERVAL;VALUE=DURATION:PT1H
X-Robots-Tag:noindex
X-PUBLISHED-TTL:PT1H
BEGIN:VTIMEZONE
TZID:Europe/Amsterdam
BEGIN:DAYLIGHT
TZOFFSETFROM:+0100
TZOFFSETTO:+0200
TZNAME:CEST
DTSTART:20240331T010000
END:DAYLIGHT
BEGIN:STANDARD
TZOFFSETFROM:+0200
TZOFFSETTO:+0100
TZNAME:CET
DTSTART:20241027T010000
END:STANDARD
BEGIN:DAYLIGHT
TZOFFSETFROM:+0100
TZOFFSETTO:+0200
TZNAME:CEST
DTSTART:20250330T010000
END:DAYLIGHT
BEGIN:STANDARD
TZOFFSETFROM:+0200
TZOFFSETTO:+0100
TZNAME:CET
DTSTART:20251026T010000
END:STANDARD
BEGIN:DAYLIGHT
TZOFFSETFROM:+0100
TZOFFSETTO:+0200
TZNAME:CEST
DTSTART:20260329T010000
END:DAYLIGHT
BEGIN:STANDARD
TZOFFSETFROM:+0200
TZOFFSETTO:+0100
TZNAME:CET
DTSTART:20261025T010000
END:STANDARD
END:VTIMEZONE
BEGIN:VEVENT
DTSTART;TZID=Europe/Amsterdam:20251029T160000
DTEND;TZID=Europe/Amsterdam:20251105T100000
DTSTAMP:20260421T114419
CREATED:20231117T160643Z
LAST-MODIFIED:20241118T152748Z
UID:10000278-1761753600-1762336800@temp.volgderodeschoentjes.nu
SUMMARY:Olijvenplukken in Italië
DESCRIPTION:Olijvenplukken in Italië.\n“La raccolta delle olive” op Quattro Fratelli\nOlijvenplukken in Italië is echt een bijzondere belevenis\, zeker bij onze olijfgaard Quattro Fratelli aan de rand van het mooie stadje Bolsena.\nMidden in de natuur van de Alta Tuscia (het oude land van de Etrusken) gaan we met een kleine groep mee werken aan het oogsten van de olijven\, “la raccolta delle olive”. Een ware authentieke ervaring en je ontdekt deze week de tradities van het platteland. Na de derde of vierde pluk dag gaan we naar de plaatselijke frantoio waar de olijven worden geperst. Om vervolgens de verse extra vergine olie te proeven.
URL:https://temp.volgderodeschoentjes.nu/agenda/olijvenplukken-in-italie/
CATEGORIES:agenda 2025,olijven plukken
ATTACH;FMTTYPE=image/jpeg:https://temp.volgderodeschoentjes.nu/wp-content/uploads/2023/11/olijvenplukken-Italie-1-e1701345048830.jpg
ORGANIZER;CN="Volgderodeschoentjes":MAILTO:info@volgderodeschoentjes.nu
END:VEVENT
END:VCALENDAR